BEGIN:VCALENDAR
VERSION:2.0
PRODID:-//UNIFR/WEBMASTER//NONSGML v1.0//EN
CALSCALE:GREGORIAN
BEGIN:VEVENT
DTSTART;VALUE=DATE:20260415T170000
DTEND;VALUE=DATE:20260415T170000
UID:19356@agenda.unifr.ch
DESCRIPTION:Möchtest du dich aktiv an der Fachschaftspolitik beteiligen oder sogar Mitglied werden? Dann komm an die Generalversammlung der Fachschaft Germanistik um 17:00 Uhr im Raum MIS 04 4120! Erfahre hier aus erster Hand von unseren geplanten Aktivitäten und davon, wer deine Interessen in der Universitätspolitik vertritt! \n\nAb 19:00 Uhr findet anschliessend vor der Miséricorde-Kapelle das traditionelle Pizzaessen mit dem ganzen Departement der Germanistik statt.
SUMMARY:Generalversammlung Fachschaft und Pizzaessen
CATEGORIES:Colloque / Congrès / Forum
LOCATION:MIS 04 4120 / Kapelle\, Rue de Romont 25\, 1700 Fribourg
URL;VALUE=URI:https://agenda.unifr.ch/e/fr/19356
END:VEVENT
END:VCALENDAR