BEGIN:VCALENDAR
VERSION:2.0
PRODID:-//UNIFR/WEBMASTER//NONSGML v1.0//EN
CALSCALE:GREGORIAN
BEGIN:VEVENT
DTSTART;VALUE=DATE:20260328T000000
DTEND;VALUE=DATE:20260328T000000
UID:19353@agenda.unifr.ch
DESCRIPTION:Am 23. März 2026 plant die Fachschaft Germanistik die Abegg-Stiftung in Riggisberg zu besuchen. Diese hat sich dem Sammeln, Erhalten und Erforschen von historischen Textilien verschrieben.\n\nNähere Informationen werden per E-Mail / Instagram bekanntgegeben.\n
SUMMARY:Fachschafts-Exkursion Abegg-Stiftung
CATEGORIES:Excursion
LOCATION:
URL;VALUE=URI:https://agenda.unifr.ch/e/fr/19353
END:VEVENT
END:VCALENDAR