BEGIN:VCALENDAR
VERSION:2.0
PRODID:-//UNIFR/WEBMASTER//NONSGML v1.0//EN
CALSCALE:GREGORIAN
BEGIN:VEVENT
DTSTART;VALUE=DATE:20260310T193000
DTEND;VALUE=DATE:20260310T230000
UID:19350@agenda.unifr.ch
DESCRIPTION:Triff die Fachschaft im Theater Equilibre im Herzen Freiburgs und komm mit uns kostenlos ins Theater!  \n\nACHTUNG! Für den Theaterbesuch musst du dich vorgängig bis Dienstag, 03.03.2026 bei emma.haensel@unifr.ch anmelden! Nähere Informationen werden per E-Mail / Instagram kommuniziert\n\nWir freuen uns, dich zu sehen! \n
SUMMARY:Theaterbesuch "Melody"
CATEGORIES:Concert / Spectacle
LOCATION:Theater Equilibre Fribourg\, Pl. Jean Tinguely 1\, 1700 Equilibre Fribourg
URL;VALUE=URI:https://agenda.unifr.ch/e/fr/19350
END:VEVENT
END:VCALENDAR