BEGIN:VCALENDAR
VERSION:2.0
PRODID:-//UNIFR/WEBMASTER//NONSGML v1.0//EN
CALSCALE:GREGORIAN
BEGIN:VEVENT
DTSTART;VALUE=DATE:20260302
DTEND;VALUE=DATE:20260314
UID:19337@agenda.unifr.ch
DESCRIPTION:Vom 2. bis 13. März 2026 lädt die Universität Freiburg zur 4. Ausgabe von Happy? ein – einer Veranstaltung rund um Wohlbefinden und psychische Gesundheit, entwickelt von und für die Unifr-Community.\n\nIm Mittelpunkt dieser Ausgabe stehen Selbstvertrauen und Selbstwertgefühl:\nsich selbst besser kennenlernen, die eigenen Stärken bewusst wahrnehmen, lernen, sich zu behaupten – und im Alltag achtsam mit der eigenen psychischen Gesundheit umgehen.\n\nMehrere Tage lang verwandelt sich der Campus in einen lebendigen Begegnungsort mit einem vielfältigen Programm: eine partizipative Freske, Spiele, Vorträge, Filmabende mit Diskussionen, Outdoor-Aktivitäten, Online-Podcasts, inspirierende Begegnungen, gesellige Momente sowie gemütliche Chill-Zonen zum Austauschen und Durchatmen zwischen zwei Terminen.\n\nHappy? schafft Raum für Austausch und Reflexion und bietet konkrete Impulse, um mit Stress, Unsicherheiten und den Herausforderungen des Studien- und Berufsalltags gelassener umzugehen.\n\nUni-Social lädt dazu ein, neue Perspektiven zu entdecken, Angebote auszuprobieren und das eigene Selbstvertrauen in einer offenen, wertschätzenden und entspannten Atmosphäre zu stärken.\nDie Veranstaltung richtet sich an die gesamte Universitätsgemeinschaft sowie an die interessierte Öffentlichkeit. Das Programm ist kostenlos, zweisprachig und findet an verschiedenen Standorten auf dem Campus sowie in kulturellen Einrichtungen der Stadt statt.\n\nKommt, wie ihr seid. Bleibt so lange ihr möchtet. Und vielleicht nehmt ihr ein Stück Leichtigkeit... und neues Selbstvertrauen mit.\n \n03.03. Happy Run, Campus Miséricorde | Treffpunkt vor der Kapelle\n10.03. Vorträge | Woche des Gehirns, Campus Pérolles 21, Raum A120\n11.03. Happy Movie Night | Dead Poets Society, Korso Kino Bar\n11.03. Konzertabend, Centre Fries – Kulturzentrum der Universität Freiburg\n12.03. Film & Diskussion | Dans la tête des complotistes, Korso Kino Bar\n13.03. Film & Diskussion | Freitag, der 13. in der Medizin, Korso Kino Bar\n
SUMMARY:Happy? – 4. Ausgabe
CATEGORIES:Andere
LOCATION:PER-MIS\, Bd de Pérolles 90\, 1700 Fribourg
URL;VALUE=URI:https://agenda.unifr.ch/e/de/19337
END:VEVENT
END:VCALENDAR