BEGIN:VCALENDAR
VERSION:2.0
PRODID:-//UNIFR/WEBMASTER//NONSGML v1.0//EN
CALSCALE:GREGORIAN
BEGIN:VEVENT
DTSTART;VALUE=DATE:20260310T160000
DTEND;VALUE=DATE:20260310T164500
UID:19322@agenda.unifr.ch
DESCRIPTION:Die Online-Informationsveranstaltung findet von 16:00 - 16:45 Uhr im Rahmen der Masterdays der Universität Freiburg statt. Sie können auch unangemeldet an der TEAMS-Veranstaltung teilnehmen und sich einloggen.\n\nGleichentags findet von 12:15 - 13:00 eine Infoveranstaltung in Präsenz statt:\nGebäude Regina Mundi RM2, Saal S-01.118
SUMMARY:Online-Infoveranstaltung Lehrdiplom für die Sekundarstufe I
CATEGORIES:Autre
LOCATION:
URL;VALUE=URI:https://agenda.unifr.ch/e/fr/19322
END:VEVENT
END:VCALENDAR