BEGIN:VCALENDAR
VERSION:2.0
PRODID:-//UNIFR/WEBMASTER//NONSGML v1.0//EN
CALSCALE:GREGORIAN
BEGIN:VEVENT
DTSTART;VALUE=DATE:20260310T170000
DTEND;VALUE=DATE:20260310T174500
UID:19321@agenda.unifr.ch
DESCRIPTION:Die Online-Informationsveranstaltung findet von 17:00 - 17:45 Uhr im Rahmen der Masterdays der Universität Freiburg statt. Sie können auch unangemeldet an der TEAMS-Veranstaltung teilnehmen und sich einloggen. \n\nGleichentags findet von 12:15 - 13:00 eine Infoveranstaltung in Präsenz statt:\nGebäude Regina Mundi RM2, Saal S-01.133
SUMMARY:Online-Infoveranstaltung LDM und LDSM 
CATEGORIES:Autre
LOCATION:
URL;VALUE=URI:https://agenda.unifr.ch/e/fr/19321
END:VEVENT
END:VCALENDAR