BEGIN:VCALENDAR
VERSION:2.0
PRODID:-//UNIFR/WEBMASTER//NONSGML v1.0//EN
CALSCALE:GREGORIAN
BEGIN:VEVENT
DTSTART;VALUE=DATE:20161124T141500
DTEND;VALUE=DATE:20161124T000000
UID:1917@agenda.unifr.ch
DESCRIPTION:Formation continue en droit de la protection des données \nLes questions relatives à la protection des données ont aujourd’hui une importance dans pratiquement tous les domaines d’activités. Que ce soit au sein de l’administration publique ou dans l’économie privée, de nombreuses données liées aux personnes sont collectées et traitées d’une façon ou d’une autre. Pour cette raison, l’Institut de droit européen de l’Université Fribourg, en partenariat avec le Préposé fédéral à la protection des données et à la transparence, propose pour la neuvième année consécutive divers cours de formation continue. Ceux-ci sont dispensés pour la cinquième fois de manière séparée en français et en allemand. 
SUMMARY:Droit de la protection des données: une introduction
CATEGORIES:Autre
LOCATION:MIS 02\, 2122AB\, Avenue de l'Europe 20\, 1700 Fribourg
URL;VALUE=URI:https://agenda.unifr.ch/e/fr/1917
END:VEVENT
END:VCALENDAR