BEGIN:VCALENDAR
VERSION:2.0
PRODID:-//UNIFR/WEBMASTER//NONSGML v1.0//EN
CALSCALE:GREGORIAN
BEGIN:VEVENT
DTSTART;VALUE=DATE:20161118T141500
DTEND;VALUE=DATE:20161118T173000
UID:1916@agenda.unifr.ch
DESCRIPTION:\nWeiterbildung Datenschutzrecht \n\nFragen des Datenschutzes sind heute in praktisch allen Tätigkeitsfeldern sowohl der öffentlichen Verwaltung als auch der Privatwirtschaft relevant, werden doch häufig in der einen oder anderen Form personenbezogene Daten erhoben und bearbeitet. Aus diesem Grund bietet das Institut für Europarecht der Universität Freiburg zusammen mit dem Eidgenössischen Datenschutz- und Öffentlichkeitsbeauftragten nach erfolgreicher Durchführung seit bereits neun Jahren erneut verschiedene Weiterbildungsnachmittage an. Wie bereits in den fünf Jahren zuvor, wird auch in diesem Jahr jeweils die gleiche Thematik in den Sprachen Deutsch und Französisch getrennt diskutiert. 
SUMMARY:Datenschutzrecht: eine Einführung
CATEGORIES:Autre
LOCATION:MIS 04\, 4112\, Avenue de l'Europe 20\, 1700 Fribourg
URL;VALUE=URI:https://agenda.unifr.ch/e/fr/1916
END:VEVENT
END:VCALENDAR