BEGIN:VCALENDAR
VERSION:2.0
PRODID:-//UNIFR/WEBMASTER//NONSGML v1.0//EN
CALSCALE:GREGORIAN
BEGIN:VEVENT
DTSTART;VALUE=DATE:20260303T170000
DTEND;VALUE=DATE:20260303T180000
UID:19048@agenda.unifr.ch
DESCRIPTION:Les programme Leonardo permettent aux élèves de gymnase fribourgeois particulièrement doué·e·s dans une branche de venir suivre certains cours à l'Université, qu'elles et ils pourront ensuite faire compter pour leurs études si elles ou ils décident de faire des études à Fribourg.\n\nVenez découvrir l'offre Leonardo Chimie, Leonardo Mathématiques et la nouvelle offre Leonardo Informatique lors d'une séance d'information ouverte à tous·tes.
SUMMARY:Leonardo Chimie, Informatique et Mathématiques – séance d'information pour élèves et enseignant·e·s
CATEGORIES:Autre
LOCATION:PER 21\, C230\, Bd de Pérolles 90\, 1700 Fribourg
URL;VALUE=URI:https://agenda.unifr.ch/e/fr/19048
END:VEVENT
END:VCALENDAR