BEGIN:VCALENDAR
VERSION:2.0
PRODID:-//UNIFR/WEBMASTER//NONSGML v1.0//EN
CALSCALE:GREGORIAN
BEGIN:VEVENT
DTSTART;VALUE=DATE:20260311T183000
DTEND;VALUE=DATE:20260311T183000
UID:19037@agenda.unifr.ch
DESCRIPTION:In this podium discussion, three experts in the field of history and political studies will discuss the state of Russian society today. What do we know about the current mood in Russian society? Does Russian society have any impact on politics in the country, and is opposition conceivable? What are the possible future trajectories for the country? Prof. Dr. Jan Dollbaum, Dr. Joy Neumeyer and Dr. Olga Pinchuk will discuss these and other issues and are also looking forward to your questions. Organized on the occasion of the Master Days at the University of Fribourg
SUMMARY:Russian Society in Times of War: Podium discussion 
CATEGORIES:Cours public\, Autre
LOCATION:MIS 11\, 2.102 (Salle Laure Dupraz)\, Rue de l'Hôpital 4\, 1700 Fribourg
URL;VALUE=URI:https://agenda.unifr.ch/e/fr/19037
END:VEVENT
END:VCALENDAR