BEGIN:VCALENDAR
VERSION:2.0
PRODID:-//UNIFR/WEBMASTER//NONSGML v1.0//EN
CALSCALE:GREGORIAN
BEGIN:VEVENT
DTSTART;VALUE=DATE:20260505T171500
DTEND;VALUE=DATE:20260505T190000
UID:19035@agenda.unifr.ch
DESCRIPTION:Lenz & Staehelin est un cabinet d'avocat·e·s suisse renommé à vocation internationale. Il figure parmi les cabinets leaders dans tous les domaines du droit des affaires et dispose d'un réseau bien établi et de longue date avec les meilleurs cabinets du monde entier. \nAvec plus de 200 avocats, il a la capacité d'être innovant et de s'adapter à l'évolution constante du cadre juridique et réglementaire en Suisse. Lenz & Staehelin compte ainsi parmi ses clients des entreprises et des particuliers de premier plan dans le monde entier. Le cabinet a des bureaux à Zürich, Genève et Lausanne.\n\nVous souhaitez en savoir plus sur la vie professionnelle passionnante dans un cabinet d'avocats d'affaires suisse de premier plan ? Vous vous intéressez aux opportunités de carrière et à la manière de vous préparer avec succès à l'examen du barreau ? \nAlors notez la date du 5 mai à 17h15, suivie d'un apéritif riche ! Lenz & Staehelin répondra à vos questions et se réjouit de faire votre connaissance !\n\nCet événement s'adresse aux étudiant·e·s en droit. 
SUMMARY:Pourquoi un cabinet d'avocat·e·s spécialisé en droit des affaires ? - Lenz & Staehelin répond à vos questions (DE/FR)
CATEGORIES:Autre
LOCATION:MIS 03\, 3118\, Avenue de l'Europe 20\, 1700 Fribourg
URL;VALUE=URI:https://agenda.unifr.ch/e/fr/19035
END:VEVENT
END:VCALENDAR