BEGIN:VCALENDAR
VERSION:2.0
PRODID:-//UNIFR/WEBMASTER//NONSGML v1.0//EN
CALSCALE:GREGORIAN
BEGIN:VEVENT
DTSTART;VALUE=DATE:20260529T090000
DTEND;VALUE=DATE:20260529T163000
UID:18937@agenda.unifr.ch
DESCRIPTION:Le Graduate Campus organise environ une fois par mois une journée d'écriture pour les doctorant·e·s de l'Université de Fribourg. Vous découvrirez différentes stratégies d'écriture pour retrouver votre inspiration. La journée est axée sur la rédaction de travaux individuels et sur un travail concentré, sans distraction, en compagnie d'autres doctorant·e·s. \nInscription par e-mail à l'adresse graduatecampus@unifr.ch \n\n
SUMMARY:Journée d'écriture pour les doctorant·e·s
CATEGORIES:Journée
LOCATION:BOTA\, Pavillon Vert \, Chemin du Musée 10\, 1700 Fribourg
URL;VALUE=URI:https://agenda.unifr.ch/e/fr/18937
END:VEVENT
END:VCALENDAR