BEGIN:VCALENDAR
VERSION:2.0
PRODID:-//UNIFR/WEBMASTER//NONSGML v1.0//EN
CALSCALE:GREGORIAN
BEGIN:VEVENT
DTSTART;VALUE=DATE:20260613T090000
DTEND;VALUE=DATE:20260613T123000
UID:18920@agenda.unifr.ch
DESCRIPTION:Rendez-vous à 9h devant le Musée d’histoire naturelle.\nFin à 12h30 au Quartier du Bourg.\nRepas au Café de l’Hôtel de Ville - sur inscription\n\nExcursion gratuite, repas à la charge des participant·e·s.
SUMMARY:Sur les traces de Guillaume Ritter: Environnement naturel, eau et énergie, d’hier à aujourd’hui.
CATEGORIES:Excursion
LOCATION:PER 07\, Entrée\, Chemin du Musée 6\, 1700 Fribourg
URL;VALUE=URI:https://agenda.unifr.ch/e/fr/18920
END:VEVENT
END:VCALENDAR