BEGIN:VCALENDAR
VERSION:2.0
PRODID:-//UNIFR/WEBMASTER//NONSGML v1.0//EN
CALSCALE:GREGORIAN
BEGIN:VEVENT
DTSTART;VALUE=DATE:20260324T180000
DTEND;VALUE=DATE:20260324T200000
UID:18827@agenda.unifr.ch
DESCRIPTION:Rencontre informelle entre personnes neurodiverses/neuroatypiques ou qui s'identifient comme telles. La participation est ouverte aux étudiant·e·s et à tout·e employé·e de l'Université de Fribourg, dans un esprit horizontal et bienveillant. Les thèmes sont abordés de manière spontanée et non planifiée, dans le but principal de rencontrer d'autres personnes aux vécus similaires.\nPas d'inscription nécessaire.\n\n
SUMMARY:Neurodiversity Meetings
CATEGORIES:Autre
LOCATION:MIS 04\, Salle Jäggi 4112\, Avenue de l'Europe 20\, 1700 Fribourg
URL;VALUE=URI:https://agenda.unifr.ch/e/fr/18827
END:VEVENT
END:VCALENDAR