BEGIN:VCALENDAR
VERSION:2.0
PRODID:-//UNIFR/WEBMASTER//NONSGML v1.0//EN
CALSCALE:GREGORIAN
BEGIN:VEVENT
DTSTART;VALUE=DATE:20250910
DTEND;VALUE=DATE:20250913
UID:18025@agenda.unifr.ch
DESCRIPTION:This writing retreat focuses on the process of writing in the field of sociolinguistics. It offers participants an invaluable opportunity to work intensively on their projects, gain new inspiration for their writing process, and strengthen their academic skills in a sustainable way.
SUMMARY:Sociolinguistic Writing Retreat 
CATEGORIES:Séminaire
LOCATION:Hotel Möschberg\, Möschberg  7\, 3506 Grosshöchstetten
URL;VALUE=URI:https://agenda.unifr.ch/e/fr/18025
END:VEVENT
END:VCALENDAR