BEGIN:VCALENDAR
VERSION:2.0
PRODID:-//UNIFR/WEBMASTER//NONSGML v1.0//EN
CALSCALE:GREGORIAN
BEGIN:VEVENT
DTSTART;VALUE=DATE:20250527T183000
DTEND;VALUE=DATE:20250527T200000
UID:17888@agenda.unifr.ch
DESCRIPTION:Dans le cadre du cycle de conférences 2025 du Musée BIBLE+ORIENT intitulé "Sacré Genre ! Dialogues autour de la sacralité et du féminin au musée BIBLE+ORIENT", René Bloch, Professeur d'études juives à l'Université de Berne, présentera une conférence en allemand intitulée "War Moses eine Frau?". 
SUMMARY:War Moses eine Frau?
CATEGORIES:Conférence
LOCATION:MIS 02\, 2122\, Avenue de l'Europe 20\, 1700 Fribourg
URL;VALUE=URI:https://agenda.unifr.ch/e/fr/17888
END:VEVENT
END:VCALENDAR