BEGIN:VCALENDAR
VERSION:2.0
PRODID:-//UNIFR/WEBMASTER//NONSGML v1.0//EN
CALSCALE:GREGORIAN
BEGIN:VEVENT
DTSTART;VALUE=DATE:20250520T183000
DTEND;VALUE=DATE:20250520T183000
UID:17789@agenda.unifr.ch
DESCRIPTION:Vaudeville caustique, "Art" de Yasmina Reza explore les registres secrets de la sociabilité humaine, sous le prétexte de l’art contemporain et de l’incompréhension qu’il suscite souvent. \nDe la peinture monochrome blanche à la banane scotchée de Maurizio Cattelan, tout semble confirmer que l’art contemporain se complaît dans un jeu frivole et autoréférentiel. Interrogeons ensemble ce sentiment d’incompréhension face à l’art contemporain, pour montrer que d’autres accès à celui-ci sont possibles. Loin des clichés, l’art contemporain sous toutes ses formes – le théâtre inclus – constitue alors un allié précieux pour comprendre notre présent. \n\nAvant la pièce "Art" de Yasmina Reza | mise en scène de François Morel\n\nAvec: Emmanuel Alloa, professeur d’esthétique et de philosophie (Unifr)\n\n\n* Le spectacle affiche quant à lui pour l’instant complet, mais si notre programme vous donne très envie, n’hésitez pas à contacter directement Equilibre-Nuithonie pour examiner les disponibilités.\n> Contact marie.deleze@equilibre-nuithonie.ch
SUMMARY:Apéro théâtre | L'art contemporain, on n’y comprend rien. Vraiment?
CATEGORIES:Concert / Spectacle\, Conférence
LOCATION:Equilibre\, Place Jean-Tinguely 1\, 1700 Fribourg
URL;VALUE=URI:https://agenda.unifr.ch/e/fr/17789
END:VEVENT
END:VCALENDAR