BEGIN:VCALENDAR
VERSION:2.0
PRODID:-//UNIFR/WEBMASTER//NONSGML v1.0//EN
CALSCALE:GREGORIAN
BEGIN:VEVENT
DTSTART;VALUE=DATE:20250317T170000
DTEND;VALUE=DATE:20250317T170000
UID:17326@agenda.unifr.ch
DESCRIPTION:suivi d’un repas au Mondial
SUMMARY:Soirée d’information sur le doctorat (F/D)
CATEGORIES:Autre
LOCATION:MIS 03\, F : MIS 3118, D : MIS 3019\, Avenue de l'Europe 20\, 1700 Fribourg
URL;VALUE=URI:https://agenda.unifr.ch/e/fr/17326
END:VEVENT
END:VCALENDAR