BEGIN:VCALENDAR
VERSION:2.0
PRODID:-//UNIFR/WEBMASTER//NONSGML v1.0//EN
CALSCALE:GREGORIAN
BEGIN:VEVENT
DTSTART;VALUE=DATE:20250613
DTEND;VALUE=DATE:20250616
UID:17269@agenda.unifr.ch
DESCRIPTION:Mettez-vous dans la peau d’un·e scientifique! Découverte nature tout public dans la région de Morat.\nAvec le Musée d’histoire naturelle de Fribourg.\nEn français et allemand\nGratuit\nPhoto: Sophie Giriens
SUMMARY:Sur le terrain – Les 48 heures de la biodiversité
CATEGORIES:Excursion\, Visite guidée\, Autre
LOCATION:Chablais (Morat / Murten)\, Campingweg 1\, 3286 Montilier / Muntelier
URL;VALUE=URI:https://agenda.unifr.ch/e/fr/17269
END:VEVENT
END:VCALENDAR