BEGIN:VCALENDAR
VERSION:2.0
PRODID:-//UNIFR/WEBMASTER//NONSGML v1.0//EN
CALSCALE:GREGORIAN
BEGIN:VEVENT
DTSTART;VALUE=DATE:20240426T160000
DTEND;VALUE=DATE:20240426T160000
UID:15678@agenda.unifr.ch
DESCRIPTION:Public thesis presentation of Alisa Smirnova for the award of the PhD in Computer Science.\n\nTitle of the thesis: Integrating Neural Networks and Human Insight for Improved Relation Extraction
SUMMARY:Integrating Neural Networks and Human Insight for Improved Relation Extraction
CATEGORIES:Soutenance de mémoire/thèse
LOCATION:PER 21\, E230\, Bd de Pérolles 90\, 1700 Fribourg
URL;VALUE=URI:https://agenda.unifr.ch/e/fr/15678
END:VEVENT
END:VCALENDAR