BEGIN:VCALENDAR
VERSION:2.0
PRODID:-//UNIFR/WEBMASTER//NONSGML v1.0//EN
CALSCALE:GREGORIAN
BEGIN:VEVENT
DTSTART;VALUE=DATE:20231123T180000
DTEND;VALUE=DATE:20231123T190000
UID:14764@agenda.unifr.ch
DESCRIPTION:Cette conférence portera sur le langage épicène et sera donnée par le professeur Pascal Gygax, psycholinguiste et spécialiste du langage inclusif. \n\nLa conférence sera suivie d'un apéro! 
SUMMARY:Une tempête dans un verre d'eau ou une récompense à un vrai problème? Conf. de Pascal Gygax
CATEGORIES:Conférence
LOCATION:PER 21\, A230\, Bd de Pérolles 90\, 1700 Fribourg
URL;VALUE=URI:https://agenda.unifr.ch/e/fr/14764
END:VEVENT
END:VCALENDAR