BEGIN:VCALENDAR
VERSION:2.0
PRODID:-//UNIFR/WEBMASTER//NONSGML v1.0//EN
CALSCALE:GREGORIAN
BEGIN:VEVENT
DTSTART;VALUE=DATE:20231118T000000
DTEND;VALUE=DATE:20231119T000000
UID:14608@agenda.unifr.ch
DESCRIPTION:Le théâtre amateur et ses multiples facettes au festival Entrée Public!\nTout le monde est en coulisses en attendant le lever du rideau, et enfin, le·la metteur·euse en scène crie «ENTRÉE PUBLIC!»\nLes spectateurices s’assoient, prêt·e·s à regarder le spectacle. Mais cette fois-ci, peut-être auriez-vous envie de monter sur scène? Inscrivez-vous aux ateliers de théâtre, d’écriture dramaturgique, ou venez tester l’improvisation.\nSi la pénombre du public vous convient mieux, les saynètes de quatre troupes fribourgeoises et les pièces made in les Apostrophes sauront vous accueillir. \nPlongez dans les ambiances changeantes d’une gare et ses passages\nincessants, d’une relation amoureuse dissonnante ou d’une nuit sous les étoiles filantes pleine de secrets.\nEntrée Public! c’est l’occasion pour toustes de voir ou d’expérimenter le théâtre, c’est «l’entrée» au «public» devant comme sur la scène.\nLe festival de théâtre amateur Entrée Public! est organisé par la troupe Les Apostrophes. Il aura lieu les 18 et 19 novembre 2023 à Fribourg, entre le Bilboquet, l’Arsen’alt, le Centre Fries et l’Université de Fribourg, du matin au soir.\nPrix libre au chapeau. Réservations et programme complet sur le site \nwww.lesapostrophes.net
SUMMARY:Entrée Public!
CATEGORIES:Concert / Spectacle\, Conférence\, Cours public
LOCATION:Lieux multiples\, Derrière-les-Remparts  12\, 1700 Fribourg
URL;VALUE=URI:https://agenda.unifr.ch/e/fr/14608
END:VEVENT
END:VCALENDAR