BEGIN:VCALENDAR
VERSION:2.0
PRODID:-//UNIFR/WEBMASTER//NONSGML v1.0//EN
CALSCALE:GREGORIAN
BEGIN:VEVENT
DTSTART;VALUE=DATE:20230923T110000
DTEND;VALUE=DATE:20230923T110000
UID:14261@agenda.unifr.ch
DESCRIPTION:13h00, 14h00, 15h00, 16h00, 17h00 Présentation
SUMMARY:Journée portes ouvertes explora : « Humanistica Helvetica: on écrivait en latin au XVIe siècle »
CATEGORIES:Journée
LOCATION:PER 21\, F203, B\, Bd de Pérolles 90\, 1700 Fribourg
URL;VALUE=URI:https://agenda.unifr.ch/e/fr/14261
END:VEVENT
END:VCALENDAR