BEGIN:VCALENDAR
VERSION:2.0
PRODID:-//UNIFR/WEBMASTER//NONSGML v1.0//EN
CALSCALE:GREGORIAN
BEGIN:VEVENT
DTSTART;VALUE=DATE:20230915T000000
DTEND;VALUE=DATE:20230915T000000
UID:13876@agenda.unifr.ch
DESCRIPTION:bien démarrer ses études au semestre d'automne 2023
SUMMARY:Getting Started – Journée d'accueil pour les nouveaux·elles étudiant·e·s
CATEGORIES:Manifestation d'information
LOCATION:
URL;VALUE=URI:https://agenda.unifr.ch/e/fr/13876
END:VEVENT
END:VCALENDAR