BEGIN:VCALENDAR
VERSION:2.0
PRODID:-//UNIFR/WEBMASTER//NONSGML v1.0//EN
CALSCALE:GREGORIAN
BEGIN:VEVENT
DTSTART;VALUE=DATE:20230915T000000
DTEND;VALUE=DATE:20230915T000000
UID:13876@agenda.unifr.ch
DESCRIPTION:das Studium im Herbstsemester 2023 erfolgreich angehen
SUMMARY:Getting Started – Willkommenstag für Studienanfänger*innen
CATEGORIES:Informationsveranstaltungen
LOCATION:
URL;VALUE=URI:https://agenda.unifr.ch/e/de/13876
END:VEVENT
END:VCALENDAR