BEGIN:VCALENDAR
VERSION:2.0
PRODID:-//UNIFR/WEBMASTER//NONSGML v1.0//EN
CALSCALE:GREGORIAN
BEGIN:VEVENT
DTSTART;VALUE=DATE:20230907T170000
DTEND;VALUE=DATE:20230908T160000
UID:13845@agenda.unifr.ch
DESCRIPTION:Journée scientifique consacrée aux relations intergouvernementales dans les systèmes fédéraux
SUMMARY:1res Journées Fribourgeoises du Fédéralisme
CATEGORIES:Journée
LOCATION:PER 22\, Auditoire Joseph Deiss\, Bd de Pérolles 90\, 1700 Fribourg
URL;VALUE=URI:https://agenda.unifr.ch/e/fr/13845
END:VEVENT
END:VCALENDAR