BEGIN:VCALENDAR
VERSION:2.0
PRODID:-//UNIFR/WEBMASTER//NONSGML v1.0//EN
CALSCALE:GREGORIAN
BEGIN:VEVENT
DTSTART;VALUE=DATE:20231027T090000
DTEND;VALUE=DATE:20231027T160000
UID:13702@agenda.unifr.ch
DESCRIPTION:
SUMMARY:Studientag IAB
CATEGORIES:Tagung / Konferenz
LOCATION:Formation continue, salle 201\, Rome 6\, 1700 Fribourg
URL;VALUE=URI:https://agenda.unifr.ch/e/de/13702
END:VEVENT
END:VCALENDAR