BEGIN:VCALENDAR
VERSION:2.0
PRODID:-//UNIFR/WEBMASTER//NONSGML v1.0//EN
CALSCALE:GREGORIAN
BEGIN:VEVENT
DTSTART;VALUE=DATE:20230418T173000
DTEND;VALUE=DATE:20230418T183000
UID:13250@agenda.unifr.ch
DESCRIPTION:Méditation en mouvement\nLe Qigong est une pratique de bien-être qui associe l'esprit et le corps par des exercices méditatifs actifs qui intègrent le mouvement, la posture, la respiration et la conscience.\nCette pratique permet de réduire le stress, de faire face aux maladies chroniques, d'augmenter la résilience.
SUMMARY:Qigong - Shibashi
CATEGORIES:Séminaire
LOCATION:Temple réformé\, Rue du temple 0\, 1700 Fribourg
URL;VALUE=URI:https://agenda.unifr.ch/e/fr/13250
END:VEVENT
END:VCALENDAR