BEGIN:VCALENDAR
VERSION:2.0
PRODID:-//UNIFR/WEBMASTER//NONSGML v1.0//EN
CALSCALE:GREGORIAN
BEGIN:VEVENT
DTSTART;VALUE=DATE:20230303T160000
DTEND;VALUE=DATE:20230303T160000
UID:13056@agenda.unifr.ch
DESCRIPTION:Public thesis presentation of Akansha Bhardwaj for the award of the PhD in Computer Science.\n\nTitle of the thesis: Event Detection on Microblogging platforms in a Low Data Regime
SUMMARY:Event Detection on Microblogging platforms in a Low Data Regime
CATEGORIES:Soutenance de mémoire/thèse
LOCATION:PER 21\, C230\, Bd de Pérolles 90\, 1700 Fribourg
URL;VALUE=URI:https://agenda.unifr.ch/e/fr/13056
END:VEVENT
END:VCALENDAR