BEGIN:VCALENDAR
VERSION:2.0
PRODID:-//UNIFR/WEBMASTER//NONSGML v1.0//EN
CALSCALE:GREGORIAN
BEGIN:VEVENT
DTSTART;VALUE=DATE:20230418T190000
DTEND;VALUE=DATE:20230418T190000
UID:12794@agenda.unifr.ch
DESCRIPTION:Komm und spiele deine Lieblingsgesellschaftsspiele oder lerne neue mit die Fachschaft Psychologie kennen. 
SUMMARY:Spieleabend organisiert von die Fachschaft Psychologie
CATEGORIES:Andere
LOCATION:RGT 02\, Rue Guillaume-Techtermann 8\, 1700 Fribourg
URL;VALUE=URI:https://agenda.unifr.ch/e/de/12794
END:VEVENT
END:VCALENDAR