BEGIN:VCALENDAR
VERSION:2.0
PRODID:-//UNIFR/WEBMASTER//NONSGML v1.0//EN
CALSCALE:GREGORIAN
BEGIN:VEVENT
DTSTART;VALUE=DATE:20250130T193000
DTEND;VALUE=DATE:20250130T213000
UID:12682@agenda.unifr.ch
DESCRIPTION:Orchestre de chambre fribourgeois / Freiburger Kammerorchester ,\nGábor Takács-Nagy, direction\nTeo Gheorghiu, piano\n\nÉcoutez l’océan en vous laissant emporter par les vagues, les jeux de lumière et les vents violents de La Mer, partition phare de Debussy, et les harmonies généreuses du Song of Summer de Delius qui évoquent l’été au bord de l’eau. Pour couronner le dépaysement, laissez-vous subjuguer par la fougue et la poésie du Concerto pour piano de Grieg.\n\nFrederick Delius (1862-1934)\nA Song of Summer (1931)\n\nEdvard Grieg (1843-1907)\nConcerto pour piano en la mineur, op. 16\n\nClaude Debussy (1862-1918)\nLa Mer, trois esquisses symphoniques pour orchestre
SUMMARY:6ème concert - Société des Concerts de Fribourg
CATEGORIES:Concert / Spectacle
LOCATION:Salle Equilibre\, Place Jean Tinguely 1\, 1700 Fribourg
URL;VALUE=URI:https://agenda.unifr.ch/e/fr/12682
END:VEVENT
END:VCALENDAR