BEGIN:VCALENDAR
VERSION:2.0
PRODID:-//UNIFR/WEBMASTER//NONSGML v1.0//EN
CALSCALE:GREGORIAN
BEGIN:VEVENT
DTSTART;VALUE=DATE:20221017T160000
DTEND;VALUE=DATE:20221017T160000
UID:12331@agenda.unifr.ch
DESCRIPTION:Public thesis presentation of Ines Arous for the award of the PhD in Computer Science.\n\nTitle of the thesis: Human-AI Collaborative Approaches for Open-Ended Data Curation
SUMMARY:Human-AI Collaborative Approaches for Open-Ended Data Curation
CATEGORIES:Soutenance de mémoire/thèse
LOCATION:PER 21\, A120\, Bd de Pérolles 90\, 1700 Fribourg
URL;VALUE=URI:https://agenda.unifr.ch/e/fr/12331
END:VEVENT
END:VCALENDAR