BEGIN:VCALENDAR
VERSION:2.0
PRODID:-//UNIFR/WEBMASTER//NONSGML v1.0//EN
CALSCALE:GREGORIAN
BEGIN:VEVENT
DTSTART;VALUE=DATE:20221102T140000
DTEND;VALUE=DATE:20221102T140000
UID:12311@agenda.unifr.ch
DESCRIPTION:
SUMMARY:Soutenance de mémoire / Lisa Roulin: Formation professionnelle au féminin
CATEGORIES:Soutenance de mémoire/thèse
LOCATION:MIS 08\, 0102\, Rue de Rome 6\, 1700 Fribourg
URL;VALUE=URI:https://agenda.unifr.ch/e/fr/12311
END:VEVENT
END:VCALENDAR