BEGIN:VCALENDAR
VERSION:2.0
PRODID:-//UNIFR/WEBMASTER//NONSGML v1.0//EN
CALSCALE:GREGORIAN
BEGIN:VEVENT
DTSTART;VALUE=DATE:20221102
DTEND;VALUE=DATE:20221122
UID:12309@agenda.unifr.ch
DESCRIPTION:Sous forme d’exposition itinérante, des outils, conseils, astuces et méthodes sont présentés afin d’améliorer votre gestion du temps au quotidien, booster votre concentration ou améliorer votre technique de prise de notes.
SUMMARY:Expo Pérolles « Stratégies d’apprentissage » : Améliorer votre planification du semestre ?
CATEGORIES:Exposition
LOCATION:PER 21\, Bd de Pérolles 90\, 1700 Fribourg
URL;VALUE=URI:https://agenda.unifr.ch/e/fr/12309
END:VEVENT
END:VCALENDAR