BEGIN:VCALENDAR
VERSION:2.0
PRODID:-//UNIFR/WEBMASTER//NONSGML v1.0//EN
CALSCALE:GREGORIAN
BEGIN:VEVENT
DTSTART;VALUE=DATE:20251106T201500
DTEND;VALUE=DATE:20251106T230000
UID:12259@agenda.unifr.ch
DESCRIPTION:1 Torhüter und 3 Feldspieler/-innen\nMax. 7 Teilnehmende pro Team
SUMMARY:Futsal Turniere Plausch
CATEGORIES:Andere
LOCATION:PER 20\, Salles de sport Pérolles 95\, Bd de Pérolles 95\, 1700 Fribourg
URL;VALUE=URI:https://agenda.unifr.ch/e/de/12259
END:VEVENT
END:VCALENDAR