BEGIN:VCALENDAR
VERSION:2.0
PRODID:-//UNIFR/WEBMASTER//NONSGML v1.0//EN
CALSCALE:GREGORIAN
BEGIN:VEVENT
DTSTART;VALUE=DATE:20220923T183000
DTEND;VALUE=DATE:20220923T193000
UID:12133@agenda.unifr.ch
DESCRIPTION:Öffentliche Führung mit anschliessender Vorführung des \nFilms «Die Entstehung des Christentums» von Ph. Nicolet.\n\nDie Ausstellung des BIBEL+ORIENT Museums nimmt uns mit auf eine Reise, die um 10'000 v. Chr. in der Levante beginnt, als die Menschen allmählich ihr Nomadenleben als Jäger und Sammler aufgaben, und mit den ersten Jahrhunderten unserer Zeitrechnung, der Römerzeit, endet, in der das Christentum aufkam.
SUMMARY:Von Göttern zu Gott Führung durch die Ausstellung
CATEGORIES:Ausstellung\, Führung
LOCATION:MIS 06\, BIBEL+ORIENT Museum\, Avenue de l'Europe 20\, 1700 Fribourg
URL;VALUE=URI:https://agenda.unifr.ch/e/de/12133
END:VEVENT
END:VCALENDAR