BEGIN:VCALENDAR
VERSION:2.0
PRODID:-//UNIFR/WEBMASTER//NONSGML v1.0//EN
CALSCALE:GREGORIAN
BEGIN:VEVENT
DTSTART;VALUE=DATE:20230524T180000
DTEND;VALUE=DATE:20230524T193000
UID:11966@agenda.unifr.ch
DESCRIPTION:Der Befund ist eindeutig: Schüler_innen aus benachteiligten Verhältnissen oder aus Familien mit Migrationserfahrung erzielen bei gleichem Potenzial tendenziell schlechtere Schulleistungen. Auf dem Papier schien eine engere Zusammenarbeit zwischen Schule und Familie der richtige Weg zu sein, aber in der Praxis hat sich diese neue Beziehung noch nicht durchgesetzt. Wo liegen die Hindernisse? Wo liegen die Missverständnisse? Wie kann man den schulischen Ethnozentrismus überwinden und einen fruchtbaren Dialog führen, der die spezifischen Bedürfnisse aller Beteiligten berücksichtigt und so ein integrativeres Umfeld für Kinder und Familien schafft?
SUMMARY:Wissenschaftscafé | Schule und Familie – Eine Partnerschaft, die «besser sein könnte»?
CATEGORIES:Andere
LOCATION:Nouveau Monde\, Esplanade de l'Ancienne Gare 3\, 1700 Fribourg
URL;VALUE=URI:https://agenda.unifr.ch/e/de/11966
END:VEVENT
END:VCALENDAR