BEGIN:VCALENDAR
VERSION:2.0
PRODID:-//UNIFR/WEBMASTER//NONSGML v1.0//EN
CALSCALE:GREGORIAN
BEGIN:VEVENT
DTSTART;VALUE=DATE:20220922
DTEND;VALUE=DATE:20221015
UID:11954@agenda.unifr.ch
DESCRIPTION:The Japanese Film Screening Tour 2022 is organized by the Japan Foundation and the Embassy of Japan in Switzerland in cooperation with the University of Fribourg, the University of Zurich, and the Swiss Japanese Cultural Association Yamato. \n\nScreenings and dates:\n1. We Make Antiques! (2018, 110 min.), 22 September\n2. AWAKE (2020, 119 min.), 30 September\n3. Nosari – Impermanent Eternity (2021, 129 min.), 7 October\n4. After the Sunset (2019, 133 min.), 14 October\n\nPlace: Eikon (Vocational School of Applied Arts), Route Wilhelm Kaiser 13, 1700 Fribourg\nTime: 18:00\nAdmission: Free\n\nMore information here: https://bit.ly/3TdCuPL\nPlease confirm your participation at this subscription form: https://tinyurl.com/jsf2022
SUMMARY:The Japanese Film Screening Tour 2022 welcomes you this autumn in Fribourg 
CATEGORIES:Film
LOCATION:Eikon (Vocational School of Applied Arts)\, Route Wilhelm Kaiser 13 13\, 1700 Fribourg
URL;VALUE=URI:https://agenda.unifr.ch/e/de/11954
END:VEVENT
END:VCALENDAR