BEGIN:VCALENDAR
VERSION:2.0
PRODID:-//UNIFR/WEBMASTER//NONSGML v1.0//EN
CALSCALE:GREGORIAN
BEGIN:VEVENT
DTSTART;VALUE=DATE:20220722
DTEND;VALUE=DATE:20221016
UID:11670@agenda.unifr.ch
DESCRIPTION:Wanderausstellung, organisiert durch «Friscènes» im Botanischen Garten vom 22. Juli bis zum 15. Oktober, auf Französisch. \nAnekdoten von Personen  in Verbindung mit der Welt  des Theaters. Bitte Handy und Kopfhörer mitnehmen!\nTäglich (8-18 Uhr), im Garten.\nVernissage: 22.07.22, 15-18 Uhr, «Unter den Linden» \n
SUMMARY:Friscènes - Festival International de théâtre - Fribourg «Les bruits des planches»
CATEGORIES:Ausstellung\, Andere
LOCATION:Jardin botanique / Botanischer Garten\, Chemin du Musée 10\, 1700 Fribourg / Freiburg
URL;VALUE=URI:https://agenda.unifr.ch/e/de/11670
END:VEVENT
END:VCALENDAR