BEGIN:VCALENDAR
VERSION:2.0
PRODID:-//UNIFR/WEBMASTER//NONSGML v1.0//EN
CALSCALE:GREGORIAN
BEGIN:VEVENT
DTSTART;VALUE=DATE:20220823T000000
DTEND;VALUE=DATE:20220823T000000
UID:11630@agenda.unifr.ch
DESCRIPTION:Die nächste Prüfungssession findet am 6. oder/und 7. September 2022 statt.\n\nDer TCF ist ein Sprachtest, der sich an alle nicht französischsprachigen Personen richtet, auch an uniexterne Personen, die aus privaten, akademischen oder beruflichen Gründen ihre Französischkenntnisse auf einfache und zuverlässige Weise testen lassen möchten.\n
SUMMARY:Anmeldeschluss für die TCF-Prüfung
CATEGORIES:Andere
LOCATION:MIS 10\, Rue de Rome 1\, 1700 Fribourg
URL;VALUE=URI:https://agenda.unifr.ch/e/de/11630
END:VEVENT
END:VCALENDAR