BEGIN:VCALENDAR
VERSION:2.0
PRODID:-//UNIFR/WEBMASTER//NONSGML v1.0//EN
CALSCALE:GREGORIAN
BEGIN:VEVENT
DTSTART;VALUE=DATE:20220803T000000
DTEND;VALUE=DATE:20220803T000000
UID:11629@agenda.unifr.ch
DESCRIPTION:Unsere nächste Goethe-Prüfungssession (B1, B2, C1) findet am 3. September 2022 statt. Alle interessierten Personen können diese Prüfungen bei uns ablegen.
SUMMARY:Anmeldeschluss für die Goethe-Prüfungen B1, B2, C1
CATEGORIES:Andere
LOCATION:MIS 10\, Rue de Rome 1\, 1700 Fribourg
URL;VALUE=URI:https://agenda.unifr.ch/e/de/11629
END:VEVENT
END:VCALENDAR