BEGIN:VCALENDAR
VERSION:2.0
PRODID:-//UNIFR/WEBMASTER//NONSGML v1.0//EN
CALSCALE:GREGORIAN
BEGIN:VEVENT
DTSTART;VALUE=DATE:20220925T170000
DTEND;VALUE=DATE:20220925T183000
UID:11585@agenda.unifr.ch
DESCRIPTION:Während sechs Jahren haben begeisterte Mitglieder des Vereins «L'Eglantier» ein Inventar der Wildrosen im Kanton Freiburg\nund angrenzender Gebiete erstellt. \nVortrag und Präsentation des Buches, das aus dieser Arbeit hervorgegangen ist, \nmit den Autoren Henri Baeriswyl und Jean-Claude Clerc.\nAuf Französisch, gratis\n
SUMMARY:Vernissage «Wildrosen im Kanton Freiburg»
CATEGORIES:Andere
LOCATION:PER 05\, Auditoire de biologie végétale / Hörsaal der Pflanzenbiologie\, Chemin du Musée 10\, 1700 Fribourg
URL;VALUE=URI:https://agenda.unifr.ch/e/de/11585
END:VEVENT
END:VCALENDAR