BEGIN:VCALENDAR
VERSION:2.0
PRODID:-//UNIFR/WEBMASTER//NONSGML v1.0//EN
CALSCALE:GREGORIAN
BEGIN:VEVENT
DTSTART;VALUE=DATE:20220812T000000
DTEND;VALUE=DATE:20220812T000000
UID:11489@agenda.unifr.ch
DESCRIPTION:Vorbereitungskurs für die Cambridge Prüfungen B2 First, C1 Advanced oder C2 Proficiency vom 12. bis 16. September 2022. Der Kurs findet jeweils vormittags von 8.30 bis 12.00 Uhr statt.
SUMMARY:Anmeldeschluss für Pre-Semester Intensive Cambridge English Exam Preparation Course
CATEGORIES:Andere
LOCATION:MIS 11\, Laure Dupraz\, Rue de l'Hôpital 4\, 1700 Fribourg
URL;VALUE=URI:https://agenda.unifr.ch/e/de/11489
END:VEVENT
END:VCALENDAR