BEGIN:VCALENDAR
VERSION:2.0
PRODID:-//UNIFR/WEBMASTER//NONSGML v1.0//EN
CALSCALE:GREGORIAN
BEGIN:VEVENT
DTSTART;VALUE=DATE:20220813T100000
DTEND;VALUE=DATE:20220813T113000
UID:11484@agenda.unifr.ch
DESCRIPTION:Sein wissenschaftlicher Name Dryopteris filix-mas erinnert an einen Dinosaurier.\nLustigerweise kannte der Wurmfarn diese prähistorischen Tiere tatsächlich! Nachdem wir\ndie Geschichte «L’échelle du diable» aus dem Buch «Les secrets de la fougère» gehört haben, werden wir mit dem Farn ein T-Shirt bedrucken. Jeder Teilnehmer bringt ein weisses T-Shirt mit (aus Baumwolle, unbedruckt). \nAtelier organisiert von MEMO, mit dem Verlag Bois Carré.\nAuf Französisch, gratis\nObligatorische Anmeldung: memo@ville-fr.ch\nAtelier für Kinder ab 7 Jahren (ab 5 Jahren in Begleitung einer erwachsenen Person). Max. 15 Kinder. \nMitbringen: dem Wetter angepasste Kleider (Sonnenhut, Regenmantel usw.)\n
SUMMARY:Pflanzendruckworkshop für Kinder ab 7 Jahren  «Das Farnkraut»
CATEGORIES:Andere
LOCATION:PER 06\, Pavillon Vert\, Chemin du Musée 6\, 1700 Fribourg
URL;VALUE=URI:https://agenda.unifr.ch/e/de/11484
END:VEVENT
END:VCALENDAR