BEGIN:VCALENDAR
VERSION:2.0
PRODID:-//UNIFR/WEBMASTER//NONSGML v1.0//EN
CALSCALE:GREGORIAN
BEGIN:VEVENT
DTSTART;VALUE=DATE:20220425T183000
DTEND;VALUE=DATE:20220425T193000
UID:11256@agenda.unifr.ch
DESCRIPTION:L’exposition du Musée BIBLE+ORIENT nous entraine dans un périple qui commence dans la\nrégion du Levant vers 10'000 av. J.‐C., au moment où les populations abandonnent peu à\npeu leur vie de chasseurs‐cueilleurs nomades, pour se terminer aux premiers siècles de\nnotre ère, à l’époque romaine, avec l’avènement du christianisme.
SUMMARY:Visite guidées de l’exposition des dieux à Dieu suivie de la projection du film de Ph. Nicolet « L’aube des chrétientés ».
CATEGORIES:Exposition\, Visite guidée\, Film
LOCATION:MIS 06\, BIBEL+ORIENT Museum\, Avenue de l'Europe 20\, 1700 Fribourg
URL;VALUE=URI:https://agenda.unifr.ch/e/fr/11256
END:VEVENT
END:VCALENDAR