BEGIN:VCALENDAR
VERSION:2.0
PRODID:-//UNIFR/WEBMASTER//NONSGML v1.0//EN
CALSCALE:GREGORIAN
BEGIN:VEVENT
DTSTART;VALUE=DATE:20220425T131500
DTEND;VALUE=DATE:20220425T150000
UID:11237@agenda.unifr.ch
DESCRIPTION:Am Montag, den 25. April 2022 um 13:15 Uhr findet im Raum PER21 A120 ein öffentlicher Gastvortrag zum Thema «Solidarität in der Krise? Soziale Ungleichheit, Emotionen und Infrastrukturen» von Prof. Dr. Sighard Neckel statt, zu dem alle Interessierte eingeladen sind. 
SUMMARY:Solidarität in der Krise? Soziale Ungleichheit, Emotionen und Infrastrukturen
CATEGORIES:Conférence
LOCATION:PER 21\, A120\, Bd de Pérolles 90\, 1700 Fribourg
URL;VALUE=URI:https://agenda.unifr.ch/e/fr/11237
END:VEVENT
END:VCALENDAR