BEGIN:VCALENDAR
VERSION:2.0
PRODID:-//UNIFR/WEBMASTER//NONSGML v1.0//EN
CALSCALE:GREGORIAN
BEGIN:VEVENT
DTSTART;VALUE=DATE:20220426T191500
DTEND;VALUE=DATE:20220426T191500
UID:11145@agenda.unifr.ch
DESCRIPTION:
SUMMARY:Symposion et vaisselle en métal dans le monde grec au début du 1er millénaire av. J.-C. État de la question
CATEGORIES:Conférence
LOCATION:MIS 03\, 3023\, Avenue de l'Europe 20\, 1700 Fribourg
URL;VALUE=URI:https://agenda.unifr.ch/e/fr/11145
END:VEVENT
END:VCALENDAR