BEGIN:VCALENDAR
VERSION:2.0
PRODID:-//UNIFR/WEBMASTER//NONSGML v1.0//EN
CALSCALE:GREGORIAN
BEGIN:VEVENT
DTSTART;VALUE=DATE:20220602T171500
DTEND;VALUE=DATE:20220602T190000
UID:10969@agenda.unifr.ch
DESCRIPTION:Cette table-ronde réunira trois responsables de structures à bas-seuil accueillant des personnes pour lesquelles, quelles qu’en soient les raisons, les perspectives d’insertion professionnelle sont fortement compromises. Que signifie en ce sens intervenir sur les marges de l’existence sociale ? En quoi ces dispositifs contribuent-ils à maintenir une insertion sociale relative ? Quelles formes d’attachement social et de liens aux institutions, la participation à ces programmes participent-ils à produire ? Jusqu’où et comment la singularité et les potentialités de ces personnes à la marge sont-elles intégrées dans la dynamique de l’intervention au quotidien ?\nAttention, salle déterminée ultérieurement.
SUMMARY:Accompagner des hommes et des femmes sans qualité et sans espoir
CATEGORIES:Conférence
LOCATION:Théâtre l'Equilibre, Point de vue\, Pl. JeanTinguely 1\, 1701 Fribourg
URL;VALUE=URI:https://agenda.unifr.ch/e/fr/10969
END:VEVENT
END:VCALENDAR