BEGIN:VCALENDAR
VERSION:2.0
PRODID:-//UNIFR/WEBMASTER//NONSGML v1.0//EN
CALSCALE:GREGORIAN
BEGIN:VEVENT
DTSTART;VALUE=DATE:20220511T171500
DTEND;VALUE=DATE:20220511T190000
UID:10967@agenda.unifr.ch
DESCRIPTION:Les modes de vie associés à une consommation quotidienne de drogues ont des conséquences sur le corps et son fonctionnement. La présentation prendra appui sur une recherche conduite dans un centre d’hébergement dit « bas seuil », qui accueille les usagers et autorise sous conditions la consommation de substances psychoactives. Il reste que la question de la vie normale ne fait pas l’objet de consensus, notamment entre les intervenants sociaux et les personnes hébergées. Parmi celles-ci, certaines se retrouvent cependant contraintes d’accepter – ou de feindre – certaines préconisations portées par les professionnels de l’établissement. Cependant, ces prescripteurs du social ne sont pas dupes des stratégies mises en place par les personnes qu’ils accompagnent. Ensemble mais sans se concerter, ils produisent et animent des fictions qui permettent – parfois de façon précaire – d’assurer le maintien de la relation d’aide. Ainsi, les cadres de l’intervention (de sa mise en oeuvre et de sa réception) nécessitent que l’ensemble des acteurs instituent des croyances auxquels – paradoxalement – ils ne croient pas ou très peu.
SUMMARY:Repenser l’accompagnement social des marges. Usage de la fictionnalité, entre prudence et coopération.
CATEGORIES:Conférence
LOCATION:MIS 03\, 3000 A\, Avenue de l'Europe 20\, 1700 Fribourg
URL;VALUE=URI:https://agenda.unifr.ch/e/fr/10967
END:VEVENT
END:VCALENDAR