BEGIN:VCALENDAR
VERSION:2.0
PRODID:-//UNIFR/WEBMASTER//NONSGML v1.0//EN
CALSCALE:GREGORIAN
BEGIN:VEVENT
DTSTART;VALUE=DATE:20220504T171500
DTEND;VALUE=DATE:20220504T190000
UID:10966@agenda.unifr.ch
DESCRIPTION:Comment autonomiser et responsabiliser des jeunes dont on ne sait ce que l’on peut raisonnablement exiger d’eux ? Comment statuer sur leur cas pour mieux intervenir sans pour autant les enfermer dans des catégories connotées, souvent stigmatisées et pouvant en outre freiner leurs potentiels en devenir ? Comment démêler « souffrance-fond », souffrance sociale et émotions communément associées à une « crise de l’adolescence » afin d’expliquer certains comportements des jeunes et agir en conséquence ? En nous appuyant sur les résultats d’une enquête empirique réalisée auprès de différents praticiens de la relation d’aide en Suisse romande et au Québec nous tenterons dans le cadre de cette conférence, de rendre compte du\n« travail à l’oeuvre » mené par les intervenants dans cette zone trouble exprimée notamment par ces différents questionnements. Plus spécifiquement, nous montrerons comment ces praticiens rencontrent des embarras professionnels avec lesquels ils doivent composer pour répondre à leur mission. Car, en finalité, intervenir en zone trouble n’est-ce pas aussi ne pas avoir d’autres choix que d’agir à moitié ?
SUMMARY:Intervenir en zone trouble. Les praticiens de la relation d’aide et la capacitation de jeunes souffrant psychiquement
CATEGORIES:Vortrag
LOCATION:MIS 03\, 3000 A\, Avenue de l'Europe 20\, 1700 Fribourg
URL;VALUE=URI:https://agenda.unifr.ch/e/de/10966
END:VEVENT
END:VCALENDAR